BEGIN:VCALENDAR
VERSION:2.0
BEGIN:VEVENT
DTSTART:20260617T230000Z
DTEND:20260618T060000Z
SUMMARY:BIG FEELINGS, BEHAVIOUR and REGULATION
DESCRIPTION:Big feelings and big behaviours in children and adolescents, and how to nurture self-regulation
LOCATION:Bourke and Wills Hotel, 554 Ruthven St, Toowoomba, Queensland, 4350, Australia
END:VEVENT
END:VCALENDAR