BEGIN:VCALENDAR
VERSION:2.0
BEGIN:VEVENT
DTSTART:20270602T230000Z
DTEND:20270603T060000Z
SUMMARY:EMPOWERING the HELPING PROFESSIONAL
DESCRIPTION:Creating safety to enhance well-being in practitioners, clients and mentally healthy workplaces
LOCATION:The Glen Hotel, 24 Gaskell St, Eight Mile Plains, QLD, 4113
END:VEVENT
END:VCALENDAR