BEGIN:VCALENDAR
VERSION:2.0
BEGIN:VEVENT
DTSTART:20261231T220000Z
DTEND:20270101T040000Z
SUMMARY:OVERCOMING SCHOOL REFUSAL TOGETHER | In-house Training
DESCRIPTION:Proven Strategies with a Wrap-around Approach by Karen Young from Hey Sigmund
LOCATION:Your Location
END:VEVENT
END:VCALENDAR