BEGIN:VCALENDAR
VERSION:2.0
BEGIN:VEVENT
DTSTART:20261231T140000Z
DTEND:20261231T140000Z
SUMMARY:SHAME | In-house Training
DESCRIPTION:The Toxic Emotion
LOCATION:Your Location
END:VEVENT
END:VCALENDAR