BEGIN:VCALENDAR
VERSION:2.0
BEGIN:VEVENT
DTSTART:20260728T230000Z
DTEND:20260730T063000Z
SUMMARY:SUNSHINE CIRCLES®
DESCRIPTION:Nurture your classroom with play!
LOCATION:Skye Suites Parramatta, 30 Hunter Street, Parramatta, NSW, 2150
END:VEVENT
END:VCALENDAR